BEGIN:VCALENDAR
VERSION:2.0
PRODID:-//Quickwire - ECPv6.15.20//NONSGML v1.0//EN
CALSCALE:GREGORIAN
METHOD:PUBLISH
X-WR-CALNAME:Quickwire
X-ORIGINAL-URL:https://www.quickwire.co.uk
X-WR-CALDESC:Events for Quickwire
REFRESH-INTERVAL;VALUE=DURATION:PT1H
X-Robots-Tag:noindex
X-PUBLISHED-TTL:PT1H
BEGIN:VTIMEZONE
TZID:Europe/London
BEGIN:DAYLIGHT
TZOFFSETFROM:+0000
TZOFFSETTO:+0100
TZNAME:BST
DTSTART:20170326T010000
END:DAYLIGHT
BEGIN:STANDARD
TZOFFSETFROM:+0100
TZOFFSETTO:+0000
TZNAME:GMT
DTSTART:20171029T010000
END:STANDARD
BEGIN:DAYLIGHT
TZOFFSETFROM:+0000
TZOFFSETTO:+0100
TZNAME:BST
DTSTART:20180325T010000
END:DAYLIGHT
BEGIN:STANDARD
TZOFFSETFROM:+0100
TZOFFSETTO:+0000
TZNAME:GMT
DTSTART:20181028T010000
END:STANDARD
BEGIN:DAYLIGHT
TZOFFSETFROM:+0000
TZOFFSETTO:+0100
TZNAME:BST
DTSTART:20190331T010000
END:DAYLIGHT
BEGIN:STANDARD
TZOFFSETFROM:+0100
TZOFFSETTO:+0000
TZNAME:GMT
DTSTART:20191027T010000
END:STANDARD
END:VTIMEZONE
BEGIN:VTIMEZONE
TZID:UTC
BEGIN:STANDARD
TZOFFSETFROM:+0000
TZOFFSETTO:+0000
TZNAME:UTC
DTSTART:20160101T000000
END:STANDARD
END:VTIMEZONE
BEGIN:VEVENT
DTSTART;TZID=Europe/London:20180131T100000
DTEND;TZID=Europe/London:20180201T160000
DTSTAMP:20260424T090533
CREATED:20170929T093520Z
LAST-MODIFIED:20170929T094722Z
UID:336-1517392800-1517500800@www.quickwire.co.uk
SUMMARY:Elex - Alexandra Palace
DESCRIPTION:Come and visit us at Alexandra Palace – probably the busiest of all Elex shows! We’ll be on stand E100 \nSituated between Muswell Hill & Wood Green\, Alexandra Palace is well served by all forms of public transport and is easy to reach by road. \nFor satellite navigation use: N22 7AY. \n\n 
URL:https://www.quickwire.co.uk/event/alexandra-palace/
LOCATION:Alexandra Palace\, Alexandra Palace Way\, London\, N22 7AY\, United Kingdom
CATEGORIES:Exhibitions
ATTACH;FMTTYPE=image/jpeg:https://www.quickwire.co.uk/wp-content/uploads/2017/09/Alexandra-Palace.jpg
ORGANIZER;CN="KIRSTIN ELDRIDGE":MAILTO:kirstineldridge@supanet.com
END:VEVENT
BEGIN:VEVENT
DTSTART;TZID=UTC:20171102T100000
DTEND;TZID=UTC:20171103T160000
DTSTAMP:20260424T090533
CREATED:20170418T132238Z
LAST-MODIFIED:20170929T092800Z
UID:164-1509616800-1509724800@www.quickwire.co.uk
SUMMARY:Elex Surrey
DESCRIPTION:Come pay us a visit at Sandown Park! We’re on stand N5 \nBy Car:\nSandown Park has great transport links and is easy to get to. Parking is free.\nFor satellite navigation use: KT10 9AJ. \nBy Train:\nEsher rail station is just a 10 minute flat walk from the main entrance. On non-racedays\, visitors should turn left out of the station onto Station Road and then right at the T- junction to join the A307 Portsmouth Road. The entrance to Sandown Park is on the right hand side.
URL:https://www.quickwire.co.uk/event/elex-surrey/
LOCATION:Sandown Park\, Portsmouth Road\, Esher\, Surrey\, KT10 9AJ\, United Kingdom
CATEGORIES:Exhibitions
ATTACH;FMTTYPE=image/jpeg:https://www.quickwire.co.uk/wp-content/uploads/2017/04/sandown_venue_crop.jpg
ORGANIZER;CN="KIRSTIN ELDRIDGE":MAILTO:kirstineldridge@supanet.com
END:VEVENT
BEGIN:VEVENT
DTSTART;TZID=UTC:20170921T100000
DTEND;TZID=UTC:20170922T160000
DTSTAMP:20260424T090533
CREATED:20170418T131701Z
LAST-MODIFIED:20170428T144234Z
UID:162-1505988000-1506096000@www.quickwire.co.uk
SUMMARY:Elex Coventry
DESCRIPTION:By Car:\nRicoh Arena is close to the M6 and is easily reached by car. Parking is free.\nFor satellite navigation use: CV6 6GE. \nBy Train:\nThe railway station for the Ricoh Arena is the main Coventry railway station\, which is in the City Centre and approximately six miles away. There are always black cabs immediately outside the station and it is roughly a 10 to 15 minute journey.
URL:https://www.quickwire.co.uk/event/elex-coventry/
LOCATION:Ricoh Arena Coventry\, Phoenix Way\, Foleshill\, Coventry\, CV6 6GE\, United Kingdom
CATEGORIES:Exhibitions
ORGANIZER;CN="KIRSTIN ELDRIDGE":MAILTO:kirstineldridge@supanet.com
END:VEVENT
BEGIN:VEVENT
DTSTART;TZID=UTC:20170906T093000
DTEND;TZID=UTC:20170907T173000
DTSTAMP:20260424T090533
CREATED:20170418T133731Z
LAST-MODIFIED:20170418T134341Z
UID:167-1504690200-1504805400@www.quickwire.co.uk
SUMMARY:ED&I Birmingham
DESCRIPTION:By Car:\nThe NEC is in the perfect location for car travel – 8 miles east of Birmingham city centre\, and at the heart of the UK motorway network. Postcode B40 1NT. When travelling to us from the North\, we recommend you use the M6 Toll\, you can pre-book access to the M6 Toll to make your journey as quick and hassle free as possible.
URL:https://www.quickwire.co.uk/event/edi-birmingham/
LOCATION:NEC Birmingham\, North Ave\, Marston Green\, \, Birmingham \, B40 1NT\, United Kingdom
CATEGORIES:Exhibitions
END:VEVENT
BEGIN:VEVENT
DTSTART;TZID=UTC:20170524T080000
DTEND;TZID=UTC:20170525T160000
DTSTAMP:20260424T090533
CREATED:20170418T131135Z
LAST-MODIFIED:20170418T131258Z
UID:159-1495612800-1495728000@www.quickwire.co.uk
SUMMARY:Elex Harrogate
DESCRIPTION:Yorkshire Event Centre is close to transport links and is situated on the outskirts of Harrogate. Parking is free. \nFor satellite navigation please use the postcode HG2 8QZ\, Railway Road\, Harrogate.
URL:https://www.quickwire.co.uk/event/elex-harrogate/
LOCATION:YEC Harrogate\, Great Yorkshire Showground\, Harrogate\, NORTH YORKSHIRE\, HG2 8NZ\, United Kingdom
CATEGORIES:Exhibitions
ORGANIZER;CN="KIRSTIN ELDRIDGE":MAILTO:kirstineldridge@supanet.com
END:VEVENT
END:VCALENDAR